BEGIN:VCALENDAR
VERSION:2.0
PRODID:-//Bilişim School - ECPv6.6.0.2//NONSGML v1.0//EN
CALSCALE:GREGORIAN
METHOD:PUBLISH
X-ORIGINAL-URL:https://www.bilisimschool.com
X-WR-CALDESC:Bilişim School için etkinlikler
REFRESH-INTERVAL;VALUE=DURATION:PT1H
X-Robots-Tag:noindex
X-PUBLISHED-TTL:PT1H
BEGIN:VTIMEZONE
TZID:Europe/Istanbul
BEGIN:STANDARD
TZOFFSETFROM:+0300
TZOFFSETTO:+0300
TZNAME:+03
DTSTART:20240101T000000
END:STANDARD
END:VTIMEZONE
BEGIN:VEVENT
DTSTART;TZID=Europe/Istanbul:20251011T003000
DTEND;TZID=Europe/Istanbul:20251026T003000
DTSTAMP:20260421T201257
CREATED:20250917T073310Z
LAST-MODIFIED:20250925T185823Z
UID:27793-1760142600-1761438600@www.bilisimschool.com
SUMMARY:🚀 CodeWeek TalentCup Yarışması Başlıyor!
DESCRIPTION:Sevgili Talent14 Ailesi\, \nBu yıl Avrupa Kod Haftası kapsamında Talent14 platformu üzerinden BTE koordinasyonunda düzenlediğimiz TalentCup Yarışması ile öğrencilerimizi teknoloji dünyasına kazandırmak için heyecan verici bir fırsat sunuyoruz! \n🎯 Yarışma Detayları\nTarihler: \n\nAlıştırma Yarışması (Ön Eleme): 11–17 Ekim 2024\nProje Yarışması: 18–26 Ekim 2024\n\nKategoriler: \n\n🐣 Algoritma İzcileri (İlkokul 1–4. Sınıf)\n🤖 Yapay Zeka Kaşifleri (Ortaokul 5–8. Sınıf)\n🛡️ Siber Avcılar (Lise 9–12. Sınıf)\n\n🌟 Neden TalentCup’a Katılmalıyız?\n\nYaratıcılık ve İnovasyon – Fikirler teknoloji ile gerçeğe dönüşüyor\nKodlama Kültürü – Birlikte üretim\, paylaşım ve dayanışma\nRekabet ve Motivasyon – Öğrenciler hedef odaklı çalışıyor\nAlgoritmik Beceri – Analiz\, problem çözme ve üretim alışkanlığı\n\n🏆 Yarışma Süreci\n\nAşama → Talent14 alıştırmalarını tamamlama ve ilk 50’ye girme\nAşama → Proje geliştirme ve jüri değerlendirmesi\n\n📌 Önemli Bilgiler\n\nKatılım tamamen ücretsiz\nÖn hazırlık gerektirmez\nDanışman öğretmen desteğiyle katılım\nWhatsApp üzerinden anlık duyurular\n\n👩‍💻 Organizatör Hakkında\nBu yarışma\, Talent14 platformu ve BTE iş birliğiyle\, Avrupa Kod Haftası kapsamında düzenlenmektedir. Yapay zekâ odaklı yeni nesil eğitim teknolojilerimizle öğrencilerimize en iyi deneyimi sunmayı hedefliyoruz. \n📬 Başvuru ve İletişim\n\nBaşvuru Formu: Buradan Başvur\nYarışma Platformu: Talent14\nE-posta: codeweek@talent14.com\nTelefon: +90 535 457 85 78
URL:https://www.bilisimschool.com/event/%f0%9f%9a%80-codeweek-talentcup-yarismasi-basliyor/
LOCATION:Talent14 Platformu\, app.talent14.com\, Ankara\, Turkey
ATTACH;FMTTYPE=image/png:https://www.bilisimschool.com/wp-content/uploads/2025/09/Thumbnail-1-From-Zero-to-CEO-1.png
ORGANIZER;CN="Talent14":MAILTO:codeweek@bilisimschool.com
END:VEVENT
BEGIN:VEVENT
DTSTART;TZID=Europe/Istanbul:20241212T000000
DTEND;TZID=Europe/Istanbul:20250120T235900
DTSTAMP:20260421T201257
CREATED:20241226T134104Z
LAST-MODIFIED:20241226T135041Z
UID:27229-1733961600-1737417540@www.bilisimschool.com
SUMMARY:TalentCup Çeyrek Final Başlıyor
DESCRIPTION:TALENTCUP Nedir ?\nTALENTCUP\, TALENT14 Platformu içerisinde yer alan bir yarışma platformudur. \nAlıştırma ve Proje tabanlı olmak üzere 2 farklı yarışma türü bulunmaktadır. \nAlıştrma: Yarışma içerisinde belirtilen ve TALENT14 platformu içerisinde yer alan görevlerin tamamlanması gereken yarışma türüdür. \nProje: Açıklamada belirtilen formata göre proje dosyası hazırlayıp yazdığı kod içeriklerini platformda ilgili bölüme yüklemesi gereken yarışma türüdür. \nKurallar\n\nTALENT14 Bireysel Premium aboneliğe sahip olmak veya kurumsal üye okullarda yer almak.\nTalentCUP Pinoo Eğitim Setine sahip olmak.\nMinimum 3.sınıf maksimum 8.sınıf öğrencisi olmak.\nHer 2 safhaya “KATIL” butonu ile katılmış olmak.\nEn az 10 gün platform aktiflik şartını sağlamış olmak.\nYazmış olduğu kod dosyasını platformda ilgili alana yüklemek.\nProjesini Youtube\, Vimeo vb. platformlara yükleyip(herkese açık ya da gizli) bizler ile video bağlantısının paylaşmak.\n\n* Kod dosyasını zip olarak yüklemelidir. Zip dosyasının içerisinde proje dosyası\, proje detayı ve paylaşmış olduğu proje videosunun linki olması gerekmektedir. \nDeğerlendirme Kriterleri\n\n⁠Safha-1 Puanı(Görev): Her aşamanın bir puanı vardır ve alınan puanlarla Safha-1 puanı belirlenir\n⁠Safha-2 Puanı(Proje): Juri tarafından projeye puan verilir. Verilen puan ile Safha-2 puanı belirlenir.\n⁠Yarışma Puanı: Safha-1 (%20) ve Safha-2 (%80) ile belirlenen puanların toplamı Genel Yarışma Puanını belirler.\n⁠Liderlik Tablosu: Yarışma puanı aynı olan öğrenciler arasında sıralama yapılırken\, TALENT14 platformunda yarışma başlangıcından bitişine kadar olan puanına bakılır.\n\nDeğerlendirme Kriterleri – Proje\n\nFonksiyonellik: Sistemin belirlenen sorunu ne kadar etkili çözdüğü.\nYaratıcılık: Kullanılan çözümlerin yenilikçi ve özgünlüğü.\nTeknik Yeterlilik: Yazılan kodlara açıklama satırları eklenmesi.\nTeknik Yeterlilik: Yazılan kodların akış diyagramı oluşturulması.\nTeknik Yeterlilik: Yapay zeka özelliklerini kullanılması.\nTeknik Yeterlilik: Yazılan kodların zihin haritası oluşturulması.\nEstetik ve Sunum: Maketin görsel sunumu ve videonun kalitesi.\nKullanıcı Dostu Olma: Sistemlerin kolay anlaşılır ve kullanılabilir olması.\nEnerji Verimliliği: Enerji tasarrufu sağlayan özelliklerin bulunması.\n\nYarışma Detayları\n1. Aşama: 12 Aralık – 24 aralık 2024 tarihleri arasında erişilebilir olacaktır. Görev tabanlı aşamamızda toplamda 50 farklı platform alıştırmaları olacaktır. Bu alıştırmalar\, içerikler(20)\, codemino(10)\, codeboo(10) ve codelab(10) kategorilerinde olacaktır. \n2. ⁠Aşama: 24 Aralık – 20 Ocak tarihleri arasında erişilebilir olacaktır Pinoo robotik set ve ilgili sensörler ile yarışma sayfasında belirtilen tema doğrultusunda öğrencilerden proje yapmaları istenecektir. Yaptıkları projelerin kod dosyalarını ve projelerini anlattıkları\, bir ya da daha fazla sayıda çektikleri youtube videolarının(gizli ya da herkese açık paylaşılmış) linklerinin bulunduğu dökümanları zip formatında yarışma sayfasıdan dosya yükleme alanına yüklemeleri gerekmektedir. \nKOD SAVAŞÇISI – Akademik Kazanımlar\n\nAlgoritma kavramı ile ilgili öğrendiklerini pekiştirir.\nBlok Tabanlı Kodlama editörlerinin kullanımını pekiştirir.\nBlok Tabanlı Kodlama aracılığıyla değişken ve sabit kavramlarını uygular.\nBlok Tabanlı Kodlama aracılığıyla döngü yapısı kavramını ve işlevini uygular.\nBlok Tabanlı Kodlama aracılığıyla koşul yapısı kavramını ve işlevini uygular.\nText Tabanlı Kodlama editörlerinin kullanımını pekiştirir.\nPython programlama dilinde kodlama yapar.\nDeğişken kavramını tanımlar.\nProgramlama dillerindeki veri tiplerini kavrar.\nYarışma içerisinde rekabet ortamını bizzat yaşarak görür.\n\nPinoocup – Akademik Kazanımlar\n\nRobotik kodlama süreçlerini tanımlar.\nSomut bir proje ile becerisini kanıtlamış olur.\nYarışma ve rekabet sürecini öğrenir.\nMotivasyona bağlı disiplin ve özgüven geliştirir.\nIDE Kullanımı ve Blok tabanlı kodlama alanını yakından tanır.\nSensör kullanımı farklı amaçta proje geliştirme metodlarını kavrar.\nZaman yönetimi ve odaklanma becerilerini geliştirir.\nMotor becerilerini iyileştirir ve algılama odağını geliştirir.\nKavram tanımlarını ve kullanımlarını öğrenir.\nProjelerini sergilemeyi ve jüri değerlendirme sürecini anlamlandırır.
URL:https://www.bilisimschool.com/event/talentcup-ceyrek-final-basliyor/
ATTACH;FMTTYPE=image/png:https://www.bilisimschool.com/wp-content/uploads/2024/12/Pinoo-Cup-TANITIM.png
END:VEVENT
BEGIN:VEVENT
DTSTART;TZID=Europe/Istanbul:20240917T080000
DTEND;TZID=Europe/Istanbul:20240917T170000
DTSTAMP:20260421T201257
CREATED:20241004T124354Z
LAST-MODIFIED:20241004T125043Z
UID:27212-1726560000-1726592400@www.bilisimschool.com
SUMMARY:Dijital Seferberlik Projesi : CodeWeek 2024 TalentCUP
DESCRIPTION:CodeWeek Nedir ?\nCodeWeek 2024\, Avrupa genelinde dijital becerilerin geliştirilmesini teşvik eden bir etkinliktir. Avrupa Birliği tarafından başlatılan bu inisiyatif\, her yıl binlerce katılımcıyı dijital dünyada programlama ve teknolojiyi keşfetmeye davet ediyor. \n2024 yılı CodeWeek etkinliğinde Bilişim School olarak “Dijital Seferberlik” başlatıyoruz. \nBTE Derneği işbirliği ile sosyal Sorumluluk projesi olarak çıktığımız bu yolda 8-18 yaş aralığındaki öğrencilerimizi teknoloji dünyasına kazandırmayı ve yeteneklerini keşfetmeyi amaçlıyoruz. \nÖzel kurumlar\, Devlet kurumları farketmeksizin dijital seferberlik yolculuğumuzda öğrencilerimiz ile birlikte aramızda görmekten mutluluk duyarız. \nDijital yetkinliklerin güçlendirilmesine yönelik yarışmaların yanı sıra öğrencilerimiz\, tatlı bir rekabet içerisinde büyük ödüllere sahip olmak için motive olacaklardır. \nCodeWeek Etkinliğimiz ile dijital seferberlik yolunda teknoloji dünyasına olan ilgiyi artırmayı hedefliyor ve gençlerimizin teknolojiye olan ilgilerini ve yeteneklerini keşfetmeyi hedefliyoruz. \nHerkes İçin Kodlama Haftası Kodu = cw24-wG1SX \nTalentCup Nedir ?\nBilişim School bünyesinde ortaya çıkan\, k12 düzeyinde öğrencilere\, eğitim kurumlarına\, öğretmenlere ve velilere hitap eden persona yapısı ile TALENT14 ürünü içerisinde bulunan bir modüldür. \nÖzellikle k12 düzeyindeki öğrencilerin dijital çağda yeteneklerini keşfetmeleri ve bu yetenekleri doğrultusunda kendilerini kanıtlamaları amacıyla ortaya çıkmıştır. \nTALENTCUP Modül’ü içerisinde\, platform içinde bulunan alıştırmalar üzerinden CodeWEEK haftası etkinliği için hazırlanan yarışmalar ile öğrenciler birbirinden güzel hediyeler kazanma şansı yakalayabilir. 8-12 Yaş arası öğrenciler için hazırlanan “Kod Kaşifleri” yarışması ve 13-17 Yaş arası öğrenciler için hazırlanan “Kod Ustaları” yarışmalarına kurum bünyesindeki öğrencileriniz ile katılım sağlayabilirsiniz. \nYarışma Tarihleri\n\nBaşlangıç Tarihi: 14 Ekim 2024\, 00:00\nBitiş Tarihi: 27 Ekim 2024\, 23:59\n\nYarışma Türü\nGörev Tabanlı Yarışma \nYarışma Konusu\nTALENTCUP Modül’ü içerisinde\, platform içinde bulunan alıştırmalar üzerinden CodeWEEK haftası etkinliği için hazırlanan yarışmalar ile öğrenciler birbirinden güzel hediyeler kazanma şansı yakalayabilir. \nKatılım Şartları\n\nYaş: Açıklamada belirtilen kendi yaş aralığındaki yarışmaya katılım sağlamalısınız.\nDevamlılık: Yarışma başladıktan sonra belirtilen yarışma bitimine kadar minimum 5 gün boyunca platforma giriş yapılması gerekmektedir.\nİletişim: Kazanan adaylarla iletişim sağlanabilmesi için profil ayarları sekmesinden öğrencinin kendi telefon numarasını ya da veli telefon numarasını girmesi gerekmektedir.\nBaşvuru: Yarışma kuralları ve yönergeleri dahilinde aşağıdaki aşamalarda anlatıldığı gibi başvurunuzu yapabilirsiniz.\n\nBaşvuru\n\nKurum öğretmeni başvuru formunu doldurmalı.\nİletişim Sağlandıktan sonra öğretmene gönderilen aktivasyon kodu ile öğrenci hesaplarını aktive etmeli.\nYarışma günü aktif olacak olan yaş aralığına göre ilgili yarışmaya katılabilir.\n\nÖdüller\n\nBirincilik Ödülü: Steam Cüzdan Kodu (100 $) + Pino (TAM SET) + TALENT14 Premium (1 YIL) + Derslig (1 YIL)\nİkincilik Ödülü: Steam Cüzdan Kodu (50 $) + Pino (İCAT SET) + TALENT14 Premium (1 YIL) + Derslig (1YIL)\nÜçüncülük Ödülü: Steam Cüzdan Kodu (25 $) + TALENT14 Premium (1 YIL) + Derslig (1YIL)\nDördüncülük Ödülü: TALENT14 Premium (1 YIL) + Derslig (1YIL)\nBeşincilik Ödülü: TALENT14 Premium (1 YIL) + Derslig (1YIL)\nİlk 10: Bilişim School bünsyesinde icra edilecek çevrimiçi programlarda kullanılmak üzere %60 burs\n\nDeğerlendirme Kriterleri\n\nYarışma Puanı: Her aşamanın puanı vardır ve alınan puana göre yarışma sıralaması gerçekleşir.\nGenel Puan: Yarışma puanı aynı olanlar arasında sıralama belirlenirken TALENT14 platformunda kazandığı toplam puana bakılır. Genel puanı fazla olan sıralamada üstte yer alır.\n\nNasıl Katılabilirsiniz?\n\nTALENT14 Platformuna kayıt olun.\nAktivasyon kodunuzu kullanarak hesabınızı etkinleştirin.\nTALENT-CUP modülünde ilgili yarışmaya katılım sağlayın.\nArtık Hazırsınız…\n\nİletişim\nHerhangi bir sorunuz varsa\, destek ekibimizle iletişime geçebilirsiniz. \nYarışmaya katılmak ve ödüller kazanmak için hemen kayıt olun! Başarılar dileriz! \n\nYarışma organizatörü [Bilişim School Eğt.Tek.A.Ş.] \n 
URL:https://www.bilisimschool.com/event/dijital-seferberlik-codeweek-2024-talentcup/
ATTACH;FMTTYPE=image/jpeg:https://www.bilisimschool.com/wp-content/uploads/2024/09/CodeWeek_TalentCUP.jpg
END:VEVENT
BEGIN:VEVENT
DTSTART;TZID=Europe/Istanbul:20240723T200000
DTEND;TZID=Europe/Istanbul:20240723T220000
DTSTAMP:20260421T201257
CREATED:20240721T065441Z
LAST-MODIFIED:20240721T065441Z
UID:27076-1721764800-1721772000@www.bilisimschool.com
SUMMARY:Çocuklarımız ve Siber Güvenlik
DESCRIPTION:Merhabalar\, \nSizleri *23 Temmuz Salı günü 20.00’da “Çocuklarımız ve Siber Güvenlik”* adlı etkinliğimize davet ediyoruz. \nBu etkinliğimizde Kurucumuz Dr. Mehmet Ada “Çocuklarımız ve Siber Güvenlik” konusunda bizlerle deneyimlerini ve görüşlerini paylaşacak. \nBu samimi sohbette sizleri de aramızda görmekten büyük mutluluk duyacağız. \nSayın Dr. Mehmet Ada\, sizlerden gelen soruları samimiyetle cevaplandıracaktır. \nKatılımınız bizim için çok değerli. \n📌Linke tıklayarak katılım sağlayabilirsiniz \nhttps://meet.google.com/hqs-noiq-euz \nSevgilerimizle\, \nBilişim School
URL:https://www.bilisimschool.com/event/cocuklarimiz-ve-siber-guvenlik/
LOCATION:Bilisim School Ofis\, Mustafa Kemal Mah. Dumlupınar Bul. No: 274 D2 Blok 2: No 24\, Ankara\, Çankaya\, 06530\, Türkiye
ATTACH;FMTTYPE=image/png:https://www.bilisimschool.com/wp-content/uploads/2024/07/Yellow-and-White-Modern-Travel-Facebook-Event-Cover.png
END:VEVENT
END:VCALENDAR