BEGIN:VCALENDAR
VERSION:2.0
PRODID:-//Bilişim School - ECPv6.6.0.2//NONSGML v1.0//EN
CALSCALE:GREGORIAN
METHOD:PUBLISH
X-ORIGINAL-URL:https://www.bilisimschool.com
X-WR-CALDESC:Bilişim School için etkinlikler
REFRESH-INTERVAL;VALUE=DURATION:PT1H
X-Robots-Tag:noindex
X-PUBLISHED-TTL:PT1H
BEGIN:VTIMEZONE
TZID:Europe/Istanbul
BEGIN:STANDARD
TZOFFSETFROM:+0300
TZOFFSETTO:+0300
TZNAME:+03
DTSTART:20240101T000000
END:STANDARD
END:VTIMEZONE
BEGIN:VEVENT
DTSTART;TZID=Europe/Istanbul:20240723T200000
DTEND;TZID=Europe/Istanbul:20240723T220000
DTSTAMP:20260424T204529
CREATED:20240721T065441Z
LAST-MODIFIED:20240721T065441Z
UID:27076-1721764800-1721772000@www.bilisimschool.com
SUMMARY:Çocuklarımız ve Siber Güvenlik
DESCRIPTION:Merhabalar\, \nSizleri *23 Temmuz Salı günü 20.00’da “Çocuklarımız ve Siber Güvenlik”* adlı etkinliğimize davet ediyoruz. \nBu etkinliğimizde Kurucumuz Dr. Mehmet Ada “Çocuklarımız ve Siber Güvenlik” konusunda bizlerle deneyimlerini ve görüşlerini paylaşacak. \nBu samimi sohbette sizleri de aramızda görmekten büyük mutluluk duyacağız. \nSayın Dr. Mehmet Ada\, sizlerden gelen soruları samimiyetle cevaplandıracaktır. \nKatılımınız bizim için çok değerli. \n📌Linke tıklayarak katılım sağlayabilirsiniz \nhttps://meet.google.com/hqs-noiq-euz \nSevgilerimizle\, \nBilişim School
URL:https://www.bilisimschool.com/event/cocuklarimiz-ve-siber-guvenlik/
LOCATION:Bilisim School Ofis\, Mustafa Kemal Mah. Dumlupınar Bul. No: 274 D2 Blok 2: No 24\, Ankara\, Çankaya\, 06530\, Türkiye
ATTACH;FMTTYPE=image/png:https://www.bilisimschool.com/wp-content/uploads/2024/07/Yellow-and-White-Modern-Travel-Facebook-Event-Cover.png
END:VEVENT
END:VCALENDAR